BEGIN:VCALENDAR
VERSION:2.0
PRODID:-//hacksw/handcal//NONSGML v1.0//EN
CALSCALE:GREGORIAN
X-WR-TIMEZONE:Europe/Paris
BEGIN:VEVENT
LOCATION:F. Hoffmann-La Roche AG\, Bau 4\, Auditorium\, Grenzacherstrasse\, CH-4058 Basel
SUMMARY:NPRG Abendanlass bei Roche
DESCRIPTION:Arbeitstitel: Die Zukunft der Printmedien
DTSTART:20261116T170000Z
DTEND:20261116T200000Z
DTSTAMP:20260424T133725Z
UID:69eb721535f64
END:VEVENT
END:VCALENDAR