BEGIN:VCALENDAR
VERSION:2.0
PRODID:-//hacksw/handcal//NONSGML v1.0//EN
CALSCALE:GREGORIAN
X-WR-TIMEZONE:Europe/Paris
BEGIN:VEVENT
LOCATION:
SUMMARY:12nach12 Online Referat: TikTok in Unternehmen
DESCRIPTION:TikTok als Kommunikationskanal in Unternehmen -  
Was bringt's und wo macht es Sinn?
DTSTART:20220328T101200Z
DTEND:20220328T114500Z
DTSTAMP:20260420T103805Z
UID:69e6020d3bbae
END:VEVENT
END:VCALENDAR