BEGIN:VCALENDAR
VERSION:2.0
PRODID:-//hacksw/handcal//NONSGML v1.0//EN
CALSCALE:GREGORIAN
X-WR-TIMEZONE:Europe/Paris
BEGIN:VEVENT
LOCATION:Coworking Space\, 4. OG\, Weisse Gasse 6\, CH-4052 Basel
SUMMARY:12nach12 - Lunch in Basel mit Dr. Oliver Wetter
DESCRIPTION:"Klima Fake News - Klimaextreme\, Risiken und Desinformationsanalyse"
DTSTART:20260507T101000Z
DTEND:20260507T120000Z
DTSTAMP:20260420T115028Z
UID:69e61304cf3be
END:VEVENT
END:VCALENDAR